BEGIN:VCALENDAR
VERSION:2.0
PRODID:-//Adopt-A-Dog - ECPv6.15.12.2//NONSGML v1.0//EN
CALSCALE:GREGORIAN
METHOD:PUBLISH
X-WR-CALNAME:Adopt-A-Dog
X-ORIGINAL-URL:https://adopt-a-dog.org
X-WR-CALDESC:Events for Adopt-A-Dog
REFRESH-INTERVAL;VALUE=DURATION:PT1H
X-Robots-Tag:noindex
X-PUBLISHED-TTL:PT1H
BEGIN:VTIMEZONE
TZID:America/New_York
BEGIN:DAYLIGHT
TZOFFSETFROM:-0500
TZOFFSETTO:-0400
TZNAME:EDT
DTSTART:20240310T070000
END:DAYLIGHT
BEGIN:STANDARD
TZOFFSETFROM:-0400
TZOFFSETTO:-0500
TZNAME:EST
DTSTART:20241103T060000
END:STANDARD
BEGIN:DAYLIGHT
TZOFFSETFROM:-0500
TZOFFSETTO:-0400
TZNAME:EDT
DTSTART:20250309T070000
END:DAYLIGHT
BEGIN:STANDARD
TZOFFSETFROM:-0400
TZOFFSETTO:-0500
TZNAME:EST
DTSTART:20251102T060000
END:STANDARD
BEGIN:DAYLIGHT
TZOFFSETFROM:-0500
TZOFFSETTO:-0400
TZNAME:EDT
DTSTART:20260308T070000
END:DAYLIGHT
BEGIN:STANDARD
TZOFFSETFROM:-0400
TZOFFSETTO:-0500
TZNAME:EST
DTSTART:20261101T060000
END:STANDARD
END:VTIMEZONE
BEGIN:VEVENT
DTSTART;TZID=America/New_York:20251019T120000
DTEND;TZID=America/New_York:20251019T170000
DTSTAMP:20260420T061351
CREATED:20250927T194005Z
LAST-MODIFIED:20250927T194005Z
UID:3679-1760875200-1760893200@adopt-a-dog.org
SUMMARY:Luckypawlooza Stamford\, CT
DESCRIPTION:
URL:https://adopt-a-dog.org/event/luckypawlooza-stamford-ct-2/
LOCATION:Mill River Park\, Stamford\, CT\, 1010 Washington Ave\, Stamford\, CT
END:VEVENT
BEGIN:VEVENT
DTSTART;TZID=America/New_York:20251018T120000
DTEND;TZID=America/New_York:20251018T170000
DTSTAMP:20260420T061351
CREATED:20250927T194401Z
LAST-MODIFIED:20250927T194541Z
UID:3680-1760788800-1760806800@adopt-a-dog.org
SUMMARY:Luckypawlooza Stamford\, CT
DESCRIPTION:
URL:https://adopt-a-dog.org/event/luckypawlooza-stamford-ct-3/
LOCATION:Mill River Park\, Stamford\, CT\, 1010 Washington Ave\, Stamford\, CT
END:VEVENT
BEGIN:VEVENT
DTSTART;TZID=America/New_York:20251018T100000
DTEND;TZID=America/New_York:20251018T160000
DTSTAMP:20260420T061351
CREATED:20250927T193714Z
LAST-MODIFIED:20250927T194300Z
UID:3677-1760781600-1760803200@adopt-a-dog.org
SUMMARY:Fairfield Harvest Market\, Fairfield\, CT
DESCRIPTION:
URL:https://adopt-a-dog.org/event/luckypawlooza-stamford-ct/
LOCATION:Fairfield Town Hall Green\, 611 Old Post Road\, Fairfield\, CT\, 06824\, United States
END:VEVENT
BEGIN:VEVENT
DTSTART;TZID=America/New_York:20251012T100000
DTEND;TZID=America/New_York:20251012T160000
DTSTAMP:20260420T061351
CREATED:20250716T212528Z
LAST-MODIFIED:20250927T191329Z
UID:3520-1760263200-1760284800@adopt-a-dog.org
SUMMARY:Pets in the Park Danbury\, CT
DESCRIPTION:
URL:https://adopt-a-dog.org/event/pets-in-the-park-danbury-2/
LOCATION:Danbury Town Park\, 36 E. Hayestown Rd.\, Danbury\, CT\, United States
END:VEVENT
BEGIN:VEVENT
DTSTART;TZID=America/New_York:20251011T100000
DTEND;TZID=America/New_York:20251011T150000
DTSTAMP:20260420T061351
CREATED:20250927T193353Z
LAST-MODIFIED:20250927T193353Z
UID:3673-1760176800-1760194800@adopt-a-dog.org
SUMMARY:Garavel Subaru Adoption Event - Norwalk\, CT
DESCRIPTION:
URL:https://adopt-a-dog.org/event/garavel-subaru-adoption-event-norwalk-ct/
LOCATION:Garavel Subaru Norwalk\, CT\, 520 Main Ave\, Norwalk\, CT
END:VEVENT
BEGIN:VEVENT
DTSTART;TZID=America/New_York:20251004T120000
DTEND;TZID=America/New_York:20251004T150000
DTSTAMP:20260420T061351
CREATED:20250927T190927Z
LAST-MODIFIED:20250927T191009Z
UID:3661-1759579200-1759590000@adopt-a-dog.org
SUMMARY:Meet Adoptable Dogs at Petco Hartsdale\, NY
DESCRIPTION:This is an in-store mobile event. Come meet adoptable dogs from the Adopt-A-Dog shelter. \nVolunteers are needed to assist with dogs handling\, answering questions\, and helping out.
URL:https://adopt-a-dog.org/event/meet-adoptable-dogs-at-petco-hartsdale-ny-copy-4/
LOCATION:PETCO Hartsdale\, 324 N Central Avenue\, Hartsdale\, NY\, 10530
END:VEVENT
BEGIN:VEVENT
DTSTART;TZID=America/New_York:20250930T170000
DTEND;TZID=America/New_York:20250930T200000
DTSTAMP:20260420T061351
CREATED:20250927T194920Z
LAST-MODIFIED:20250927T194920Z
UID:3686-1759251600-1759262400@adopt-a-dog.org
SUMMARY:Yappy Hour(s) at 314 Beer Garden\, Norwalk\, CT
DESCRIPTION:
URL:https://adopt-a-dog.org/event/yappy-hours-at-314-beer-garden-norwalk-ct/
LOCATION:314 Beer Garden\, 314 Wilson Ave\, Norwalk\, CT
END:VEVENT
BEGIN:VEVENT
DTSTART;TZID=America/New_York:20250928T130000
DTEND;TZID=America/New_York:20250928T160000
DTSTAMP:20260420T061351
CREATED:20250927T185554Z
LAST-MODIFIED:20250927T191540Z
UID:3657-1759064400-1759075200@adopt-a-dog.org
SUMMARY:Woofstock 2025 @ Pound Ridge Community Church\, Pound Ridge\, NY
DESCRIPTION:Screenshot
URL:https://adopt-a-dog.org/event/woofstock-2025-pound-ridge-community-church/
LOCATION:Pound Ridge Community Church\, 3 Pound Ridge Road\, Pound Ridge\, NY
END:VEVENT
BEGIN:VEVENT
DTSTART;TZID=America/New_York:20250927T150000
DTEND;TZID=America/New_York:20250927T160000
DTSTAMP:20260420T061351
CREATED:20250927T184924Z
LAST-MODIFIED:20250927T185214Z
UID:3652-1758985200-1758988800@adopt-a-dog.org
SUMMARY:Meet Adoptable Dogs at PetSmart Stamford\,  CT
DESCRIPTION:This is an in-store mobile event. Come meet adoptable dogs from the Adopt-A-Dog shelter. \nVolunteers are needed to assist with dogs handling\, answering questions\, and helping out.
URL:https://adopt-a-dog.org/event/meet-adoptable-dogs-at-petsmart-stamford-ct-5/
LOCATION:PetSmart Stamford\, CT\, 288 West Avenue\, Stamford\, CT\, United States
END:VEVENT
BEGIN:VEVENT
DTSTART;TZID=America/New_York:20250921T100000
DTEND;TZID=America/New_York:20250921T163000
DTSTAMP:20260420T061351
CREATED:20250102T053313Z
LAST-MODIFIED:20250102T053313Z
UID:2749-1758448800-1758472200@adopt-a-dog.org
SUMMARY:SAVE THE DATE!  Puttin' On The Dog 2025 - Sunday\, September 21st
DESCRIPTION:Save the Date – Puttin’ On The Dog will be held on Sunday\, September 21st at Roger Sherman Baldwin Park in Greenwich\, CT
URL:https://adopt-a-dog.org/event/save-the-date-puttin-on-the-dog-2025-sunday-september-21st/
LOCATION:CT
END:VEVENT
BEGIN:VEVENT
DTSTART;TZID=America/New_York:20250831T120000
DTEND;TZID=America/New_York:20250831T160000
DTSTAMP:20260420T061351
CREATED:20250828T015605Z
LAST-MODIFIED:20250828T015605Z
UID:3596-1756641600-1756656000@adopt-a-dog.org
SUMMARY:Meet Adoptable Dogs at PetSmart Stamford\,  CT
DESCRIPTION:This is an in-store mobile event. Come meet adoptable dogs from the Adopt-A-Dog shelter. \nVolunteers are needed to assist with dogs handling\, answering questions\, and helping out.
URL:https://adopt-a-dog.org/event/meet-adoptable-dogs-at-petsmart-stamford-ct-4/
LOCATION:PetSmart Stamford\, CT\, 288 West Avenue\, Stamford\, CT\, United States
END:VEVENT
BEGIN:VEVENT
DTSTART;TZID=America/New_York:20250824T120000
DTEND;TZID=America/New_York:20250824T160000
DTSTAMP:20260420T061351
CREATED:20250823T012151Z
LAST-MODIFIED:20250823T015224Z
UID:3589-1756036800-1756051200@adopt-a-dog.org
SUMMARY:Meet Adoptable Dogs at PetSmart Stamford\,  CT
DESCRIPTION:This is an in-store mobile event. Come meet adoptable dogs from the Adopt-A-Dog shelter. \nVolunteers are needed to assist with dogs handling\, answering questions\, and helping out.
URL:https://adopt-a-dog.org/event/meet-adoptable-dogs-at-petsmart-stamford-ct-copy-3/
LOCATION:PetSmart Stamford\, CT\, 288 West Avenue\, Stamford\, CT\, United States
END:VEVENT
BEGIN:VEVENT
DTSTART;TZID=America/New_York:20250823T110000
DTEND;TZID=America/New_York:20250823T150000
DTSTAMP:20260420T061351
CREATED:20250818T021513Z
LAST-MODIFIED:20250818T021513Z
UID:3553-1755946800-1755961200@adopt-a-dog.org
SUMMARY:Meet Adoptable Dogs at Petco Fairfield\, CT
DESCRIPTION:This is an in-store mobile event. Come meet adoptable dogs from the Adopt-A-Dog shelter. \nVolunteers are needed to assist with dogs handling\, answering questions\, and helping out. \n 
URL:https://adopt-a-dog.org/event/meet-adoptable-dogs-at-petco-fairfield-ct/
LOCATION:PETCO Fairfield\, 340 Grasmere Ave\, Fairfield\, 06824\, United States
END:VEVENT
BEGIN:VEVENT
DTSTART;TZID=America/New_York:20250817T120000
DTEND;TZID=America/New_York:20250817T150000
DTSTAMP:20260420T061351
CREATED:20250807T040226Z
LAST-MODIFIED:20250807T040226Z
UID:3548-1755432000-1755442800@adopt-a-dog.org
SUMMARY:Meet Adoptable Dogs at PetSmart Stamford\,  CT
DESCRIPTION:This is an in-store mobile event. Come meet adoptable dogs from the Adopt-A-Dog shelter. \nVolunteers are needed to assist with dogs handling\, answering questions\, and helping out.
URL:https://adopt-a-dog.org/event/meet-adoptable-dogs-at-petsmart-stamford-ct-3/
LOCATION:PetSmart Stamford\, CT\, 288 West Avenue\, Stamford\, CT\, United States
END:VEVENT
BEGIN:VEVENT
DTSTART;TZID=America/New_York:20250816T120000
DTEND;TZID=America/New_York:20250816T150000
DTSTAMP:20260420T061351
CREATED:20250807T035952Z
LAST-MODIFIED:20250807T035952Z
UID:3543-1755345600-1755356400@adopt-a-dog.org
SUMMARY:Adoption Meet & Greet at Pets Supplies Plus in Yorktown\, NY
DESCRIPTION:Join us at Pets Supplies Plus in Yorktown\, NY for an in-store mobile event.  Meet adoptable dogs and find your new best friend! \nLooking to adopt?  We recommend completing our Adoptions Application and getting pre-approved before attending the event.  This way\, if you find the perfect match\, you may be able to take them home that day!
URL:https://adopt-a-dog.org/event/adoption-meet-greet-at-pets-supplies-plus-in-yorktown-ny-5/
LOCATION:Pet Supplies Plus – Yorktown\, 3333 Crompond Rd.\, Yorktown\, NY\, 10598\, United States
END:VEVENT
BEGIN:VEVENT
DTSTART;TZID=America/New_York:20250815T130000
DTEND;TZID=America/New_York:20250815T163000
DTSTAMP:20260420T061351
CREATED:20250807T035828Z
LAST-MODIFIED:20250807T035828Z
UID:3541-1755262800-1755275400@adopt-a-dog.org
SUMMARY:Meet Adoptable Dogs at Petco Hartsdale\, NY
DESCRIPTION:This is an in-store mobile event. Come meet adoptable dogs from the Adopt-A-Dog shelter. \nVolunteers are needed to assist with dogs handling\, answering questions\, and helping out.
URL:https://adopt-a-dog.org/event/meet-adoptable-dogs-at-petco-hartsdale-ny-3/
LOCATION:PETCO Hartsdale\, 324 N Central Avenue\, Hartsdale\, NY\, 10530
END:VEVENT
BEGIN:VEVENT
DTSTART;TZID=America/New_York:20250810T120000
DTEND;TZID=America/New_York:20250810T150000
DTSTAMP:20260420T061351
CREATED:20250807T040042Z
LAST-MODIFIED:20250807T040109Z
UID:3545-1754827200-1754838000@adopt-a-dog.org
SUMMARY:Meet Adoptable Dogs at PetSmart Stamford\,  CT
DESCRIPTION:This is an in-store mobile event. Come meet adoptable dogs from the Adopt-A-Dog shelter. \nVolunteers are needed to assist with dogs handling\, answering questions\, and helping out.
URL:https://adopt-a-dog.org/event/meet-adoptable-dogs-at-petsmart-stamford-ct-2/
LOCATION:PetSmart Stamford\, CT\, 288 West Avenue\, Stamford\, CT\, United States
END:VEVENT
BEGIN:VEVENT
DTSTART;TZID=America/New_York:20250809T120000
DTEND;TZID=America/New_York:20250809T150000
DTSTAMP:20260420T061351
CREATED:20250807T040339Z
LAST-MODIFIED:20250807T040339Z
UID:3550-1754740800-1754751600@adopt-a-dog.org
SUMMARY:Meet Adoptable Dogs at Petco Mount Kisco\, NY
DESCRIPTION:This is an in-store mobile event. Come meet adoptable dogs from the Adopt-A-Dog shelter. \nVolunteers are needed to assist with dogs handling\, answering questions\, and helping out. \n 
URL:https://adopt-a-dog.org/event/meet-adoptable-dogs-at-petco-mount-kisco-ny/
LOCATION:Petco Mt Kisco\, 360 N Bedford Rd.\, Mt Kisco\, NY\, 10549\, United States
END:VEVENT
BEGIN:VEVENT
DTSTART;TZID=America/New_York:20250802T120000
DTEND;TZID=America/New_York:20250802T150000
DTSTAMP:20260420T061351
CREATED:20250716T212235Z
LAST-MODIFIED:20250716T212245Z
UID:3515-1754136000-1754146800@adopt-a-dog.org
SUMMARY:Meet Adoptable Dogs at Petco Hartsdale\, NY
DESCRIPTION:This is an in-store mobile event. Come meet adoptable dogs from the Adopt-A-Dog shelter. \nVolunteers are needed to assist with dogs handling\, answering questions\, and helping out.
URL:https://adopt-a-dog.org/event/meet-adoptable-dogs-at-petco-hartsdale-ny-copy-3/
LOCATION:PETCO Hartsdale\, 324 N Central Avenue\, Hartsdale\, NY\, 10530
END:VEVENT
BEGIN:VEVENT
DTSTART;TZID=America/New_York:20250727T120000
DTEND;TZID=America/New_York:20250727T150000
DTSTAMP:20260420T061351
CREATED:20250725T145207Z
LAST-MODIFIED:20250725T145220Z
UID:3536-1753617600-1753628400@adopt-a-dog.org
SUMMARY:Meet Adoptable Dogs at PetSmart Stamford\,  CT
DESCRIPTION:This is an in-store mobile event. Come meet adoptable dogs from the Adopt-A-Dog shelter. \nVolunteers are needed to assist with dogs handling\, answering questions\, and helping out.
URL:https://adopt-a-dog.org/event/meet-adoptable-dogs-at-petsmart-stamford-ct-copy-2/
LOCATION:PetSmart Stamford\, CT\, 288 West Avenue\, Stamford\, CT\, United States
END:VEVENT
BEGIN:VEVENT
DTSTART;TZID=America/New_York:20250718T110000
DTEND;TZID=America/New_York:20250720T170000
DTSTAMP:20260420T061351
CREATED:20250716T213018Z
LAST-MODIFIED:20250716T213018Z
UID:3522-1752836400-1753030800@adopt-a-dog.org
SUMMARY:Meet Puppies at Connecticon in Hartford this Weekend!
DESCRIPTION:Adopt-A-Dog will be at Connecticon once again!  Meet Jon St. John at 11AM on Friday and Saturday\, learn about our shelter and programs and meet some of our adorable puppies looking for loving homes!  Tickets are available online at connecticon.org
URL:https://adopt-a-dog.org/event/meet-puppies-at-connecticon-in-hartford-this-weekend/
LOCATION:Connecticon\, 100 Columbus Bvld\, Hartford\, CT\, United States
END:VEVENT
BEGIN:VEVENT
DTSTART;TZID=America/New_York:20250629T120000
DTEND;TZID=America/New_York:20250629T150000
DTSTAMP:20260420T061351
CREATED:20250625T032929Z
LAST-MODIFIED:20250625T032929Z
UID:3310-1751198400-1751209200@adopt-a-dog.org
SUMMARY:Meet Adoptable Dogs at Petco Hartsdale\, NY - Copy
DESCRIPTION:This is an in-store mobile event. Come meet adoptable dogs from the Adopt-A-Dog shelter. \nVolunteers are needed to assist with dogs handling\, answering questions\, and helping out.
URL:https://adopt-a-dog.org/event/meet-adoptable-dogs-at-petco-hartsdale-ny-copy-2/
LOCATION:PETCO Hartsdale\, 324 N Central Avenue\, Hartsdale\, NY\, 10530
END:VEVENT
BEGIN:VEVENT
DTSTART;TZID=America/New_York:20250628T120000
DTEND;TZID=America/New_York:20250628T160000
DTSTAMP:20260420T061351
CREATED:20250625T033328Z
LAST-MODIFIED:20250625T033814Z
UID:3312-1751112000-1751126400@adopt-a-dog.org
SUMMARY:Join Adopt-A-Dog at Boundless Adventures Ropes Course – Saturday\, June 28th!
DESCRIPTION:Join Adopt-A-Dog at Boundless Adventures Ropes Course – Saturday\, June 28th! \nLooking for a fun day out and a chance to meet your new best friend? Visit the Adopt-A-Dog team at Boundless Adventures on the campus of Purchase College from 12 PM to 4 PM. Meet adorable\, adoptable dogs and puppies in search of loving forever homes\, and enjoy an unforgettable experience on the Boundless Adventures ropes course. Bring the whole family for a day of excitement\, outdoor adventure\, and the possibility of finding your perfect four-legged companion.
URL:https://adopt-a-dog.org/event/meet-adoptable-dogs-at-boundless-adventures-rope-course-this-saturday/
LOCATION:Boundless Adventures Rope Course\, 735 Anderson Hill Rd\, Purchase\, NY\, United States
END:VEVENT
BEGIN:VEVENT
DTSTART;TZID=America/New_York:20250622T110000
DTEND;TZID=America/New_York:20250622T160000
DTSTAMP:20260420T061351
CREATED:20250124T032644Z
LAST-MODIFIED:20250421T214155Z
UID:2892-1750590000-1750608000@adopt-a-dog.org
SUMMARY:Fairfield Dog Days 2025 - Sunday\, June 22nd
DESCRIPTION:Save the Date – Fairfield Dog Days will be held on Sunday\, June 22nd at the Fairfield Town Green.  More info will be posted soon.
URL:https://adopt-a-dog.org/event/save-the-date-fairfield-dog-days-2025-sunday-june-22nd/
LOCATION:CT
END:VEVENT
BEGIN:VEVENT
DTSTART;TZID=America/New_York:20250607T120000
DTEND;TZID=America/New_York:20250607T160000
DTSTAMP:20260420T061351
CREATED:20250124T032844Z
LAST-MODIFIED:20250124T032858Z
UID:2894-1749297600-1749312000@adopt-a-dog.org
SUMMARY:Catherine’s Butterfly Party Mega Adoption Event
DESCRIPTION:Catherine’s Butterfly Party!\nJune 7\, 2025\n12 – 4pm\n3 Primrose St\, Newtown\, CT\nRain or Shine\n\n\n\n\nEvery June\, the sanctuary honors Catherine’s birthday and her love of animals with Catherine’s Butterfly Party. 2025 will celebrate 9 years of finding fur-ever homes for animals in need through community spirit\, compassion and love.
URL:https://adopt-a-dog.org/event/catherines-butterfly-party-mega-adoption-event/
LOCATION:CT
END:VEVENT
BEGIN:VEVENT
DTSTART;TZID=America/New_York:20250601T110000
DTEND;TZID=America/New_York:20250601T160000
DTSTAMP:20260420T061351
CREATED:20250124T032515Z
LAST-MODIFIED:20250421T214342Z
UID:2890-1748775600-1748793600@adopt-a-dog.org
SUMMARY:New Canaan Dog Days 2025 - Sunday\, June 1st
DESCRIPTION:
URL:https://adopt-a-dog.org/event/save-the-date-new-canaan-dog-days-2025-sunday-june-1st/
LOCATION:CT
END:VEVENT
BEGIN:VEVENT
DTSTART;TZID=America/New_York:20250531T110000
DTEND;TZID=America/New_York:20250531T150000
DTSTAMP:20260420T061351
CREATED:20250421T215143Z
LAST-MODIFIED:20250421T215143Z
UID:3250-1748689200-1748703600@adopt-a-dog.org
SUMMARY:Stamford Bark in the Park
DESCRIPTION:Join us at the 9th Annual Bark in the Park! A special day for our four-legged friends!\nThe FREE event will include a variety of K9 demos\, microchip clinic\, agility course\, fun contests\, adoption area\, photo booth\, vendor booths and more!\nEstimated attendance: 1000-1500 humans + many happy pups!
URL:https://adopt-a-dog.org/event/stamford-bark-in-the-park/
LOCATION:Downtown Stamford\, CT
END:VEVENT
BEGIN:VEVENT
DTSTART;TZID=America/New_York:20250518T130000
DTEND;TZID=America/New_York:20250518T160000
DTSTAMP:20260420T061351
CREATED:20260418T173519Z
LAST-MODIFIED:20260418T173519Z
UID:3824-1747573200-1747584000@adopt-a-dog.org
SUMMARY:Meet Adoptable Dogs at Wireless Zone in Glenville!
DESCRIPTION:Join Adopt-A-Dog at Wireless Zone in Glenville\, CT from 1PM to 4PM!  Stop by and learn about our shelter\, dogs for adoption and possibly meet your new best friend! \n 
URL:https://adopt-a-dog.org/event/meet-adoptable-dogs-at-wireless-zone-in-glenville-2/
LOCATION:23 Glen Ridge Rd\, Glenville\, CT\, 23 Glen Ridge Road\, Greenwich\, CT\, 06831\, United States
END:VEVENT
BEGIN:VEVENT
DTSTART;TZID=America/New_York:20250518T100000
DTEND;TZID=America/New_York:20250518T160000
DTSTAMP:20260420T061351
CREATED:20250218T234554Z
LAST-MODIFIED:20250218T234554Z
UID:2939-1747562400-1747584000@adopt-a-dog.org
SUMMARY:Join us at the Westport Dog Festival
DESCRIPTION:  \nThis is our 9th year and the festival only gets bigger and better. We expect 3000 people and over 1000 dogs at the best Dog Festival in the State. Come on out for a great day in the park with family and friends. \nFun Competitions\,  Obstacle Course\, Police K9 Presentations\, Demonstrations\, Adoptables\, Vendors\, Food Trucks\, Caricature artist\, Photo board and more…  Fun for the whole family\, including people. \nAdopt-A-Dog will have dog on site for Adoption viewing from 10AM to 4PM
URL:https://adopt-a-dog.org/event/join-us-at-the-westport-dog-festival/
LOCATION:CT
END:VEVENT
BEGIN:VEVENT
DTSTART;TZID=America/New_York:20250517T130000
DTEND;TZID=America/New_York:20250517T160000
DTSTAMP:20260420T061351
CREATED:20250507T223132Z
LAST-MODIFIED:20250507T223132Z
UID:3258-1747486800-1747497600@adopt-a-dog.org
SUMMARY:Meet Adoptable Dogs at Wireless Zone in Glenville!
DESCRIPTION:Join Adopt-A-Dog at Wireless Zone in Glenville\, CT from 1PM to 4PM!  Stop by and learn about our shelter\, dogs for adoption and possibly meet your new best friend! \n 
URL:https://adopt-a-dog.org/event/meet-adoptable-dogs-at-wireless-zone-in-glenville/
LOCATION:23 Glen Ridge Rd\, Glenville\, CT\, 23 Glen Ridge Road\, Greenwich\, CT\, 06831\, United States
END:VEVENT
END:VCALENDAR